BEGIN:VCALENDAR
VERSION:2.0
PRODID:-//AudioTheme 2.3.1
BEGIN:VEVENT
UID:urn:uuid:da3b7592-353e-4a66-b485-4e953984d633
URL:https://philippecassard.com/shows/2020-05-30/
DTSTART;VALUE=DATE:20200530
SUMMARY:La Grange aux Pianos
DESCRIPTION:Avec David Grimal (violon) et Anne Gastinel (violoncelle)  Trios de Beethoven (1)
LOCATION:La Grange aux Pianos\, Les Chattons\, Chassignolles\, \, 36400
END:VEVENT
END:VCALENDAR
