BEGIN:VCALENDAR
VERSION:2.0
PRODID:-//AudioTheme 2.3.1
BEGIN:VEVENT
UID:urn:uuid:cf1eaf5b-7ce6-4edf-8e2f-a714ac901def
URL:https://philippecassard.com/shows/2020-06-03/
DTSTART;VALUE=DATE:20200603
SUMMARY:Les Grandes Heures de Saint-Emilion
DESCRIPTION:Avec Cédric Pescia  Beethoven : 9ème Symphonie transcrite par Liszt pour 2 pianos
LOCATION:Les Grandes Heures de Saint-Emilion\, Saint-Émilion\, \, 33330
END:VEVENT
END:VCALENDAR
