BEGIN:VCALENDAR
VERSION:2.0
PRODID:-//AudioTheme 2.3.1
BEGIN:VEVENT
UID:urn:uuid:0f48d499-8375-4f6a-b525-e2800b482d8f
URL:https://philippecassard.com/shows/2020-06-06/
DTSTART;VALUE=DATE:20200606
SUMMARY:Enghien-les-Bains
DESCRIPTION:Récital et masterclasses  Beethoven Schubert Schumann
LOCATION:Enghien-les-Bains\, Enghien-les-Bains\, \, 95880
END:VEVENT
END:VCALENDAR
