BEGIN:VCALENDAR
VERSION:2.0
PRODID:-//AudioTheme 2.3.1
BEGIN:VEVENT
UID:urn:uuid:d24b94cf-5ab3-4bf3-8e12-f37709477544
URL:https://philippecassard.com/shows/2020-06-13/
DTSTART;VALUE=DATE:20200613
SUMMARY:Lille Pianos Festival
DESCRIPTION:Avec Cédric Pescia  Beethoven : 9ème Symphonie transcrite par Liszt pour 2 pianos  
LOCATION:Lille Pianos Festival\, 30 Place Pierre Mendès France\, Lille\, \, 59800
END:VEVENT
END:VCALENDAR
