BEGIN:VCALENDAR
VERSION:2.0
PRODID:-//AudioTheme 2.3.1
BEGIN:VEVENT
UID:urn:uuid:3e707ab5-26d9-434a-850f-096bfdd82e79
URL:https://philippecassard.com/shows/gig-1901/
DTSTART;VALUE=DATE:20210829
SUMMARY:Musique en vignes
DESCRIPTION:Avec David Grimal et Anne Gastinel  Trios de Beethoven
LOCATION:Musique en vignes\, Fronton\, \, 31620
END:VEVENT
END:VCALENDAR
