BEGIN:VCALENDAR
VERSION:2.0
PRODID:-//AudioTheme 2.3.1
BEGIN:VEVENT
UID:urn:uuid:40a5e84b-57fe-4792-80a8-88f20f8e912a
URL:https://philippecassard.com/shows/gig-2847/
DTSTART;VALUE=DATE:20220317
SUMMARY:Les Concerts de Poche
DESCRIPTION:avec David Grimal et Anne Gastinel  Beethoven : Trios op.70 n°2 et op.97 ”A l’Archiduc”
LOCATION:Les Concerts de Poche\, Crest\, \, 26400
END:VEVENT
END:VCALENDAR
