BEGIN:VCALENDAR
VERSION:2.0
PRODID:-//AudioTheme 2.3.1
BEGIN:VEVENT
UID:urn:uuid:41bf0259-aa5b-4b11-b995-f40e48d8c4d8
URL:https://philippecassard.com/shows/gig-2849/
DTSTART;VALUE=DATE:20220322
SUMMARY:Salle de l'Arsenal
DESCRIPTION:avec Cédric Pescia  Beethoven/Liszt : 9ème Symphonie pour 2 pianos
LOCATION:Salle de l'Arsenal\, 3 Avenue Ney\, Metz\, \, 57000
END:VEVENT
END:VCALENDAR
