BEGIN:VCALENDAR
VERSION:2.0
PRODID:-//AudioTheme 2.3.1
BEGIN:VEVENT
UID:urn:uuid:29d81438-ae61-472b-ae02-d802fd244b88
URL:https://philippecassard.com/shows/gig-2851/
DTSTART;VALUE=DATE:20220327
SUMMARY:Royal Hainaut
DESCRIPTION:avec David Grimal\, Anne Gastinel\, Samuel Hasselhorn\, Ionah Maiatsky)  Schubertiade  (Trios\, Winterreise\, piano à 4 mains)
LOCATION:Royal Hainaut\, 6 Pl. de l'Hôpital Général\, Valenciennes\, \, 59300
END:VEVENT
END:VCALENDAR
