BEGIN:VCALENDAR
VERSION:2.0
PRODID:-//AudioTheme 2.3.1
BEGIN:VEVENT
UID:urn:uuid:29d81438-ae61-472b-ae02-d802fd244b88
URL:https://philippecassard.com/shows/gig-2853/
DTSTART;VALUE=DATE:20220410
SUMMARY:Les Grandes Heures de Saint-Emilion
DESCRIPTION:avec Cédric Pescia  Beethoven/Liszt : 9ème Symphonie pour 2 pianos
LOCATION:Les Grandes Heures de Saint-Emilion\, Saint-Émilion\, \, 33330
END:VEVENT
END:VCALENDAR
