BEGIN:VCALENDAR
VERSION:2.0
PRODID:-//AudioTheme 2.3.1
BEGIN:VEVENT
UID:urn:uuid:accddc25-ac4c-4652-b70d-5c9cafe3fb8f
URL:https://philippecassard.com/shows/gig-2854/
DTSTART;VALUE=DATE:20220413
SUMMARY:Teatro della Pergola
DESCRIPTION:"Exils intérieurs"\, un spectacle d’Amos Gitai  Avec Natalie Dessay\, Pippo Delbono\, Hans-Peter Clous\, Jérôme Kircher etc.
LOCATION:Teatro della Pergola\, Via della Pergola\, 12/32 Italie\, Florence - Italie\, \, 50121
END:VEVENT
END:VCALENDAR
