BEGIN:VCALENDAR
VERSION:2.0
PRODID:-//AudioTheme 2.3.1
BEGIN:VEVENT
UID:urn:uuid:cd75bc1c-fca6-4904-b6a5-424a889ba1ca
URL:https://philippecassard.com/shows/gig-2857/
DTSTART;VALUE=DATE:20220421
SUMMARY:Théâtre du Capitole
DESCRIPTION:avec Karine Deshayes\, mezzo  Mélodies de Ravel\, Duparc\, Gounod\, Fauré
LOCATION:Théâtre du Capitole\, Place du Capitole\, Toulouse\, \, 31000
END:VEVENT
END:VCALENDAR
