BEGIN:VCALENDAR
VERSION:2.0
PRODID:-//AudioTheme 2.3.1
BEGIN:VEVENT
UID:urn:uuid:2ac4253c-2a3f-41b2-8aac-0f4e756318d9
URL:https://philippecassard.com/shows/gig-2858/
DTSTART;VALUE=DATE:20220423
SUMMARY:Les Concerts de poche
DESCRIPTION:Marolles-en-Brie (94)  Mélodies de Ravel\, Duparc\, Gounod\, Fauré
LOCATION:Les Concerts de poche\, Marolles en Brie\, \, 94440
END:VEVENT
END:VCALENDAR
