BEGIN:VCALENDAR
VERSION:2.0
PRODID:-//AudioTheme 2.3.1
BEGIN:VEVENT
UID:urn:uuid:53a275bb-1a11-4d64-9b9f-8dd81de0ed3a
URL:https://philippecassard.com/shows/gig-2859/
DTSTART;VALUE=DATE:20220428
SUMMARY:Opéra national du Rhin
DESCRIPTION:avec Karine Deshayes\, mezzo\, et Philippe Berrod\, clarinette  Lieder et Mélodies de Spohr\, Schubert\, Ravel\, Duparc\, Gounod
LOCATION:Opéra national du Rhin\, 9 Place Broglie\, Strasbourg\, \, 67000
END:VEVENT
END:VCALENDAR
