BEGIN:VCALENDAR
VERSION:2.0
PRODID:-//AudioTheme 2.3.1
BEGIN:VEVENT
UID:urn:uuid:f90af6ad-d552-449d-8b2e-fadfd9702c2f
URL:https://philippecassard.com/shows/gig-2860/
DTSTART;VALUE=DATE:20220506
SUMMARY:Le Pin Galant
DESCRIPTION:avec David Grimal et Anne Gastinel  Brahms : les trois Trios
LOCATION:Le Pin Galant\, 34 Avenue du Maréchal de Lattre de Tassigny\,\, Mérignac\, \, 33700
END:VEVENT
END:VCALENDAR
