BEGIN:VCALENDAR
VERSION:2.0
PRODID:-//AudioTheme 2.3.1
BEGIN:VEVENT
UID:urn:uuid:8494f32d-9062-4fa5-919e-b69ca515b10f
URL:https://philippecassard.com/shows/gig-2861/
DTSTART;VALUE=DATE:20220512
SUMMARY:Pamiers
DESCRIPTION:Festival Fauré  Récital  Schubert\, Franck\, Fauré
LOCATION:Pamiers\, Pamiers\, \, 09100
END:VEVENT
END:VCALENDAR
