BEGIN:VCALENDAR
VERSION:2.0
PRODID:-//AudioTheme 2.3.1
BEGIN:VEVENT
UID:urn:uuid:e55b93d8-7fcc-4eda-8084-b1d42676bd26
URL:https://philippecassard.com/shows/gig-2862/
DTSTART;VALUE=DATE:20220525
SUMMARY:Vendôme
DESCRIPTION:Musique de chambre avec le Quatuor Voce  Fauré
LOCATION:Vendôme\, Vendôme\, \, 41100
END:VEVENT
END:VCALENDAR
