BEGIN:VCALENDAR
VERSION:2.0
PRODID:-//AudioTheme 2.3.1
BEGIN:VEVENT
UID:urn:uuid:e6c075df-fcac-4bee-bfe3-4dc64a5db999
URL:https://philippecassard.com/shows/gig-5172/
DTSTART;VALUE=DATE:20240318
SUMMARY:Conservatoire national supérieur de musique et de danse de Lyon
DESCRIPTION:Masterclasses et conférence sur Schubert
LOCATION:Conservatoire national supérieur de musique et de danse de Lyon\, 3 Quai Chauveau\, Lyon\, \, 69009
END:VEVENT
END:VCALENDAR
