BEGIN:VCALENDAR
VERSION:2.0
PRODID:-//AudioTheme 2.3.1
BEGIN:VEVENT
UID:urn:uuid:cdd5f1b1-a40b-48f8-bfa9-61a69d748cb9
URL:https://philippecassard.com/shows/gig-5815/
DTSTART;VALUE=DATE:20240517
SUMMARY:Théâtre Molière
DESCRIPTION:Récital  Mozart\, Debussy\, Schubert\, Liszt
LOCATION:Théâtre Molière\, 53/55 Av. Jean Mermoz\, Marignane\, \, 13700
END:VEVENT
END:VCALENDAR
