BEGIN:VCALENDAR
VERSION:2.0
PRODID:-//AudioTheme 2.3.1
BEGIN:VEVENT
UID:urn:uuid:82e64fa8-9c7a-419d-a05a-8d1cf47ab7b0
URL:https://philippecassard.com/shows/gig-7492/
DTSTART;VALUE=DATE:20250424
SUMMARY:Église Saint-Guillaume
DESCRIPTION:avec Natalie Dessay\, soprano  “Farewell tour”  Chausson\, Ravel\, Poulenc\, Barber\, Previn\, Sondheim etc.  
LOCATION:Église Saint-Guillaume\, 1 Rue Munch\, Strasbourg\, \, 67000
END:VEVENT
END:VCALENDAR
